dset ^10050906_nmm_d01.GrbF00000
index ^10050906_nmm_d01.GrbF00000.idx
undef 9.999E+20
title 10050906_nmm_d01.GrbF00000
* produced by grib2ctl v0.9.12.5p34c
dtype grib 255
pdef 101 107 lcc 36.069000 6.552000 1 1 41.800000 41.800000 13.100000 11673 11673
xdef 101 linear 6.552000 0.131284249837798
ydef 107 linear 36.069000 0.106118181818182
tdef 49 linear 06Z09may2010 1hr
zdef 42 levels 1013 1000 975 950 925 900 875 850 825 800 775 750 725 700 675 650 625 600 575 550 525 500 475 450 425 400 375 350 325 300 275 250 225 200 175 150 125 100 75 50 20 5
vars 157
no4LFTX180_0mb 0 132,116,46080 ** 180-0 mb above gnd Best (4-layer) lifted index [K]
ABSVprs 9 41,100,0 ** Absolute vorticity [/s]
ACPCPsfc 0 63,1,0 ** surface Convective precipitation [kg/m^2]
ALBDOsfc 0 84,1,0 ** surface Albedo [%]
APCPsfc 0 61,1,0 ** surface Total precipitation [kg/m^2]
BMIXLhbl 0 226,109,1 ** Blackadar's mixing length scale [m]
CAPEsfc 0 157,1,0 ** surface Convective Avail. Pot. Energy [J/kg]
CAPE180_0mb 0 157,116,46080 ** 180-0 mb above gnd Convective Avail. Pot. Energy [J/kg]
CAPE90_0mb 0 157,116,23040 ** 90-0 mb above gnd Convective Avail. Pot. Energy [J/kg]
CAPE255_0mb 0 157,116,65280 ** 255-0 mb above gnd Convective Avail. Pot. Energy [J/kg]
CCONDsfc 0 181,1,0 ** surface Canopy conductance [m/s]
CDsfc 0 252,1,0 ** surface Drag coefficient [non-dim]
CDCONclm 0 72,200,0 ** atmos column Convective cloud cover [%]
CDLYRclm 0 213,200,0 ** atmos column Non-convective cloud [%]
CFRZRsfc 0 141,1,0 ** surface Categorical freezing rain [yes=1;no=0]
CICEprs 42 58,100,0 ** Cloud Ice [kg/m^2]
CICEPsfc 0 142,1,0 ** surface Categorical ice pellets [yes=1;no=0]
CINsfc 0 156,1,0 ** surface Convective inhibition [J/kg]
CIN180_0mb 0 156,116,46080 ** 180-0 mb above gnd Convective inhibition [J/kg]
CIN90_0mb 0 156,116,23040 ** 90-0 mb above gnd Convective inhibition [J/kg]
CIN255_0mb 0 156,116,65280 ** 255-0 mb above gnd Convective inhibition [J/kg]
CLWMRprs 42 153,100,0 ** Cloud water [kg/kg]
CNVHRhbl 2 242,109,0 ** Deep convective heating [K/s]
CNWATsfc 0 223,1,0 ** surface Plant canopy surface water [kg/m^2]
CRAINsfc 0 140,1,0 ** surface Categorical rain [yes=1;no=0]
CSNOWsfc 0 143,1,0 ** surface Categorical snow [yes=1;no=0]
CUEFIclm 0 134,200,0 ** atmos column Convective cloud efficiency []
DPTprs 42 17,100,0 ** Dew point temp. [K]
DPT2m 0 17,105,2 ** 2 m Dew point temp. [K]
EVPsfc 0 57,1,0 ** surface Evaporation [kg/m^2]
FRICVsfc 0 253,1,0 ** surface Friction velocity [m/s]
GFLUXsfc 0 155,1,0 ** surface Ground heat flux [W/m^2]
GUSTsfc 0 180,1,0 ** surface Surface wind gust [m/s]
HCDChcl 0 75,234,0 ** high cloud level High level cloud cover [%]
HGTsfc 0 7,1,0 ** surface Geopotential height [gpm]
HGTprs 42 7,100,0 ** Geopotential height [gpm]
HGTclb 0 7,2,0 ** cloud base Geopotential height [gpm]
HGThtfl 0 7,204,0 ** highest trop freezing level Geopotential height [gpm]
HGTl245 0 7,245,0 ** Geopotential height [gpm]
HGTclt 0 7,3,0 ** cloud top Geopotential height [gpm]
HGT0deg 0 7,4,0 ** 0C isotherm level Geopotential height [gpm]
HLCY0_3000m 0 190,106,7680 ** 3000-0 m above ground Storm relative helicity [m^2/s^2]
HLCYhlr 0 190,106,2560 ** Storm relative helicity [m^2/s^2]
HPBLsfc 0 221,1,0 ** surface Planetary boundary layer height [m]
ICECsfc 0 91,1,0 ** surface Ice concentration (ice=1;no ice=0) [fraction]
LANDsfc 0 81,1,0 ** surface Land cover (land=1;sea=0) [fraction]
LCDClcl 0 73,214,0 ** low cloud level Low level cloud cover [%]
LFTX500_1000mb 0 131,101,12900 ** 500-1000 mb Surface lifted index [K]
LHTFLsfc 0 121,1,0 ** surface Latent heat flux [W/m^2]
LRGHRhbl 2 241,109,0 ** Large scale condensation heating [K/s]
LWHRhbl 2 251,109,0 ** Longwave radiative heating [K/s]
MCDCmcl 0 74,224,0 ** mid-cloud level Mid level cloud cover [%]
MCONVprs 2 135,100,0 ** Horizontal moisture divergence [kg/kg/s]
MSLETmsl 0 130,102,0 ** Mean sea level pressure (ETA model) [Pa]
MSTAVdlr 0 207,112,100 ** Moisture availability [%]
NCPCPsfc 0 62,1,0 ** surface Large scale precipitation [kg/m^2]
PEVPRsfc 0 145,1,0 ** surface Potential evaporation rate [W/m^2]
PLI30_0mb 0 24,116,7680 ** 30-0 mb above gnd Parcel lifted index (to 500 hPa) [K]
PLPL255_0mb 0 141,116,65280 ** 255-0 mb above gnd Pressure of level from which parcel was lifted [Pa]
POROSsfc 0 240,1,0 ** surface Soil porosity [fraction]
PRATEsfc 0 59,1,0 ** surface Precipitation rate [kg/m^2/s]
PRESsfc 0 1,1,0 ** surface Pressure [Pa]
PRESclb 0 1,2,0 ** cloud base Pressure [Pa]
PRESgcbl 0 1,206,0 ** grid-scale cloud bottom level Pressure [Pa]
PRESgctl 0 1,207,0 ** grid-scale cloud top level Pressure [Pa]
PREScvb 0 1,242,0 ** convective cld base Pressure [Pa]
PREScvt 0 1,243,0 ** convective cld top Pressure [Pa]
PRESsccb 0 1,248,0 ** shallow convective cloud base Pressure [Pa]
PRESscct 0 1,249,0 ** shallow convective cloud top Pressure [Pa]
PRESdccb 0 1,251,0 ** deep convective cloud base Pressure [Pa]
PRESdcct 0 1,252,0 ** deep convective cloud top Pressure [Pa]
PRESclt 0 1,3,0 ** cloud top Pressure [Pa]
PREStrp 0 1,7,0 ** tropopause Pressure [Pa]
PRMSLmsl 0 2,102,0 ** Pressure reduced to MSL [Pa]
PWATclm 0 54,200,0 ** atmos column Precipitable water [kg/m^2]
RCQsfc 0 248,1,0 ** surface Humidity parameter in canopy conductance [fraction]
RCSsfc 0 246,1,0 ** surface Solar parameter in canopy conductance [fraction]
RCSOLsfc 0 249,1,0 ** surface Soil moisture parameter in canopy conductance [fraction]
RCTsfc 0 247,1,0 ** surface Temperature parameter in canopy conductance [fraction]
REFCclm 0 212,200,0 ** atmos column Composite Radar Reflectivity [dbZ]
REFDprs 40 211,100,0 ** Derived Radar Reflectivity [dbZ]
REFDhag 2 211,105,0 ** Derived Radar Reflectivity [dbZ]
REFDhbl 2 211,109,0 ** Derived Radar Reflectivity [dbZ]
RHsfc 0 52,1,0 ** surface Relative humidity [%]
RHprs 42 52,100,0 ** Relative humidity [%]
RH2m 0 52,105,2 ** 2 m Relative humidity [%]
RH30_0mb 0 52,116,7680 ** 30-0 mb above gnd Relative humidity [%]
RH60_30mb 0 52,116,15390 ** 60-30 mb above gnd Relative humidity [%]
RH90_60mb 0 52,116,23100 ** 90-60 mb above gnd Relative humidity [%]
RH120_90mb 0 52,116,30810 ** 120-90 mb above gnd Relative humidity [%]
RH150_120mb 0 52,116,38520 ** 150-120 mb above gnd Relative humidity [%]
RLYRSsfc 0 171,1,0 ** surface Number of soil layers in root zone [non-dim]
RWMRprs 42 170,100,0 ** Rain water mixing ratio [kg/kg]
SFCRsfc 0 83,1,0 ** surface Surface roughness [m]
SFEXCsfc 0 208,1,0 ** surface Exchange coefficient [(kg/m^3)(m/s)]
SHTFLsfc 0 122,1,0 ** surface Sensible heat flux [W/m^2]
SMDRYsfc 0 231,1,0 ** surface Direct evaporation cease (soil moisture) [fraction]
SMREFsfc 0 230,1,0 ** surface Transpiration stress-onset (soil moisture) [fraction]
SNMRprs 42 171,100,0 ** Snow mixing ratio [kg/kg]
SNOWCsfc 0 238,1,0 ** surface Snow cover [%]
SOILM0_200cm 0 86,112,200 ** 0-200 cm undergnd Soil moisture content [kg/m^2]
SOILWSoilT 0 144,112,10 ** 0-10 cm undergnd Volumetric soil moisture [fraction]
SOILWdlr 3 144,112,0 ** Volumetric soil moisture [fraction]
SOTYPsfc 0 224,1,0 ** surface Soil type (Zobler) [0..9]
SPFHsfc 0 51,1,0 ** surface Specific humidity [kg/kg]
SPFHprs 42 51,100,0 ** Specific humidity [kg/kg]
SPFH2m 0 51,105,2 ** 2 m Specific humidity [kg/kg]
STRMprs 42 35,100,0 ** Stream function [m^2/s]
SWHRhbl 2 250,109,0 ** Solar radiative heating [K/s]
TCDCclm 0 71,200,0 ** atmos column Total cloud cover [%]
TCOLCclm 0 140,200,0 ** atmos column Total column condensate [kg/m/m]
TCOLIclm 0 137,200,0 ** atmos column Total column cloud ice [kg/m/m]
TCOLRclm 0 138,200,0 ** atmos column Total column rain [kg/m/m]
TCOLSclm 0 139,200,0 ** atmos column Total column snow [kg/m/m]
TCOLWclm 0 136,200,0 ** atmos column Total column cloud water [kg/m/m]
TKEprs 42 158,100,0 ** Turbulent kinetic energy [J/kg]
TMPsfc 0 11,1,0 ** surface Temp. [K]
TMPprs 42 11,100,0 ** Temp. [K]
TMP2m 0 11,105,2 ** 2 m Temp. [K]
TMP30_0mb 0 11,116,7680 ** 30-0 mb above gnd Temp. [K]
TMP60_30mb 0 11,116,15390 ** 60-30 mb above gnd Temp. [K]
TMP90_60mb 0 11,116,23100 ** 90-60 mb above gnd Temp. [K]
TMP120_90mb 0 11,116,30810 ** 120-90 mb above gnd Temp. [K]
TMP150_120mb 0 11,116,38520 ** 150-120 mb above gnd Temp. [K]
TMPclt 0 11,3,0 ** cloud top Temp. [K]
TSOILSoilB 0 85,111,300 ** 300 cm underground Soil temp. [K]
TSOILSoilT 0 85,112,10 ** 0-10 cm undergnd Soil temp. [K]
TSOILdlr 3 85,112,0 ** Soil temp. [K]
TTRADhbl 2 216,109,0 ** Temp. tendency by all radiation [K/s]
UFLXsfc 0 124,1,0 ** surface Zonal momentum flux [N/m^2]
UGRDprs 42 33,100,0 ** u wind [m/s]
UGRD10m 0 33,105,10 ** 10 m u wind [m/s]
UGRD30_0mb 0 33,116,7680 ** 30-0 mb above gnd u wind [m/s]
UGRD60_30mb 0 33,116,15390 ** 60-30 mb above gnd u wind [m/s]
UGRD90_60mb 0 33,116,23100 ** 90-60 mb above gnd u wind [m/s]
UGRD120_90mb 0 33,116,30810 ** 120-90 mb above gnd u wind [m/s]
UGRD150_120mb 0 33,116,38520 ** 150-120 mb above gnd u wind [m/s]
ULWRFsfc 0 212,1,0 ** surface Upward long wave flux [W/m^2]
ULWRFtoa 0 212,8,0 ** top of atmos Upward long wave flux [W/m^2]
USTM0_6000m 0 196,106,15360 ** 6000-0 m above ground u-component of storm motion [m/s]
USWRFsfc 0 211,1,0 ** surface Upward short wave flux [W/m^2]
USWRFtoa 0 211,8,0 ** top of atmos Upward short wave flux [W/m^2]
VEGsfc 0 87,1,0 ** surface Vegetation [%]
VFLXsfc 0 125,1,0 ** surface Meridional momentum flux [N/m^2]
VGRDprs 42 34,100,0 ** v wind [m/s]
VGRD10m 0 34,105,10 ** 10 m v wind [m/s]
VGRD30_0mb 0 34,116,7680 ** 30-0 mb above gnd v wind [m/s]
VGRD60_30mb 0 34,116,15390 ** 60-30 mb above gnd v wind [m/s]
VGRD90_60mb 0 34,116,23100 ** 90-60 mb above gnd v wind [m/s]
VGRD120_90mb 0 34,116,30810 ** 120-90 mb above gnd v wind [m/s]
VGRD150_120mb 0 34,116,38520 ** 150-120 mb above gnd v wind [m/s]
VGTYPsfc 0 225,1,0 ** surface Vegetation type (as in SiB) [0..13]
VISsfc 0 20,1,0 ** surface Visibility [m]
VSTM0_6000m 0 197,106,15360 ** 6000-0 m above ground v-component of storm motion [m/s]
VVELprs 42 39,100,0 ** Pressure vertical velocity [Pa/s]
WEASDsfc 0 65,1,0 ** surface Accum. snow [kg/m^2]
WILTsfc 0 219,1,0 ** surface Wilting point [fraction]
ENDVARS
